BEGIN:VCALENDAR
VERSION:2.0
PRODID:-//sangereducationfoundation.org//NONSGML kigkonsult.se iCalcreator 
 2.30.10//
CALSCALE:GREGORIAN
METHOD:PUBLISH
UID:3fb50fed-1a27-4671-9222-5697580329d6
X-WR-CALDESC:Monthly Board of Directors Meeting
X-WR-RELCALID:0e8aba9267539aae6b2ce23e16bbf4fe
X-WR-TIMEZONE:America/Chicago
BEGIN:VTIMEZONE
TZID:America/Chicago
BEGIN:STANDARD
TZNAME:CST
DTSTART:20301103T020000
TZOFFSETFROM:-0500
TZOFFSETTO:-0600
RDATE:20311102T020000
END:STANDARD
BEGIN:DAYLIGHT
TZNAME:CDT
DTSTART:20300310T020000
TZOFFSETFROM:-0600
TZOFFSETTO:-0500
RDATE:20310309T020000
RDATE:20320314T020000
END:DAYLIGHT
END:VTIMEZONE
BEGIN:VEVENT
UID:e349f520-2b5b-4ac3-bb01-9a7eea068e25
DTSTAMP:20260424T140515Z
DESCRIPTION:Monthly Board of Directors Meeting
DTSTART;TZID=America/Chicago:20301217T170000
DTEND;TZID=America/Chicago:20301217T180000
LOCATION:400 Bolivar Street Suite 102\, Sanger\, TX 76266 US
SUMMARY:SEF Board of Directors Board Meeting
END:VEVENT
END:VCALENDAR
