BEGIN:VCALENDAR
VERSION:2.0
PRODID:-//sangereducationfoundation.org//NONSGML kigkonsult.se iCalcreator 
 2.30.10//
CALSCALE:GREGORIAN
METHOD:PUBLISH
UID:faa55300-e64e-47fe-9bb0-3f61a711684c
X-WR-CALDESC:Event Committee Monthly meeting.  Open to all volunteers and B
 oard Members
X-WR-RELCALID:c50ff41be37cc5083f544da1c6c4f6f7
X-WR-TIMEZONE:America/Chicago
BEGIN:VTIMEZONE
TZID:America/Chicago
BEGIN:STANDARD
TZNAME:CST
DTSTART:20291104T020000
TZOFFSETFROM:-0500
TZOFFSETTO:-0600
RDATE:20301103T020000
RDATE:20311102T020000
END:STANDARD
BEGIN:DAYLIGHT
TZNAME:CDT
DTSTART:20300310T020000
TZOFFSETFROM:-0600
TZOFFSETTO:-0500
RDATE:20310309T020000
RDATE:20320314T020000
END:DAYLIGHT
END:VTIMEZONE
BEGIN:VEVENT
UID:a2f42bf1-db62-4614-8071-bd29c3cdbb17
DTSTAMP:20260424T110328Z
DESCRIPTION:Event Committee Monthly meeting.  Open to all volunteers and Bo
 ard Members
DTSTART;TZID=America/Chicago:20301002T170000
DTEND;TZID=America/Chicago:20301002T180000
LOCATION:400 Bolivar Street Suite 102\, Sanger\, TX 76266 US
SUMMARY:Development Event & Marketing Committee Meeting
END:VEVENT
END:VCALENDAR
