BEGIN:VCALENDAR
VERSION:2.0
PRODID:-//sangereducationfoundation.org//NONSGML kigkonsult.se iCalcreator 
 2.30.10//
CALSCALE:GREGORIAN
METHOD:PUBLISH
UID:691cd129-4dd0-4b8e-8ce2-edec93559532
X-WR-CALDESC:Monthly Board of Directors Meeting
X-WR-RELCALID:95e560016da51b50efe7d73b6804f01c
X-WR-TIMEZONE:America/Chicago
BEGIN:VTIMEZONE
TZID:America/Chicago
BEGIN:STANDARD
TZNAME:CST
DTSTART:20291104T020000
TZOFFSETFROM:-0500
TZOFFSETTO:-0600
RDATE:20301103T020000
END:STANDARD
BEGIN:DAYLIGHT
TZNAME:CDT
DTSTART:20290311T020000
TZOFFSETFROM:-0600
TZOFFSETTO:-0500
RDATE:20300310T020000
RDATE:20310309T020000
END:DAYLIGHT
END:VTIMEZONE
BEGIN:VEVENT
UID:e9c6870a-21e7-4eb4-a47d-793a124535aa
DTSTAMP:20260423T212912Z
DESCRIPTION:Monthly Board of Directors Meeting
DTSTART;TZID=America/Chicago:20300115T170000
DTEND;TZID=America/Chicago:20300115T180000
LOCATION:400 Bolivar Street Suite 102\, Sanger\, TX 76266 US
SUMMARY:SEF Board of Directors Board Meeting
END:VEVENT
END:VCALENDAR
