BEGIN:VCALENDAR
VERSION:2.0
PRODID:-//sangereducationfoundation.org//NONSGML kigkonsult.se iCalcreator 
 2.30.10//
CALSCALE:GREGORIAN
METHOD:PUBLISH
UID:a1aea86c-2fb6-4293-b062-4685db7b24b0
X-WR-CALDESC:Event Committee Monthly meeting.  Open to all volunteers and B
 oard Members
X-WR-RELCALID:40677b9d1ce0767527100ee546805664
X-WR-TIMEZONE:America/Chicago
BEGIN:VTIMEZONE
TZID:America/Chicago
BEGIN:STANDARD
TZNAME:CST
DTSTART:20281105T020000
TZOFFSETFROM:-0500
TZOFFSETTO:-0600
RDATE:20291104T020000
END:STANDARD
BEGIN:DAYLIGHT
TZNAME:CDT
DTSTART:20280312T020000
TZOFFSETFROM:-0600
TZOFFSETTO:-0500
RDATE:20290311T020000
RDATE:20300310T020000
END:DAYLIGHT
END:VTIMEZONE
BEGIN:VEVENT
UID:d5c8e329-728b-476c-af1e-240ea4f77aea
DTSTAMP:20260423T052459Z
DESCRIPTION:Event Committee Monthly meeting.  Open to all volunteers and Bo
 ard Members
DTSTART;TZID=America/Chicago:20290307T170000
DTEND;TZID=America/Chicago:20290307T180000
LOCATION:400 Bolivar Street Suite 102\, Sanger\, TX 76266 US
SUMMARY:Development Event & Marketing Committee Meeting
END:VEVENT
END:VCALENDAR
