BEGIN:VCALENDAR
VERSION:2.0
PRODID:-//sangereducationfoundation.org//NONSGML kigkonsult.se iCalcreator 
 2.30.10//
CALSCALE:GREGORIAN
METHOD:PUBLISH
UID:de8251d6-6c36-45ad-9dcf-ab68a967efd9
X-WR-CALDESC:Monthly Board of Directors Meeting
X-WR-RELCALID:8548439132b2c2547d3f768624f7513b
X-WR-TIMEZONE:America/Chicago
BEGIN:VTIMEZONE
TZID:America/Chicago
BEGIN:STANDARD
TZNAME:CST
DTSTART:20281105T020000
TZOFFSETFROM:-0500
TZOFFSETTO:-0600
RDATE:20291104T020000
END:STANDARD
BEGIN:DAYLIGHT
TZNAME:CDT
DTSTART:20280312T020000
TZOFFSETFROM:-0600
TZOFFSETTO:-0500
RDATE:20290311T020000
RDATE:20300310T020000
END:DAYLIGHT
END:VTIMEZONE
BEGIN:VEVENT
UID:04b03f67-bee0-4639-858f-63f3a6c054ba
DTSTAMP:20260423T000857Z
DESCRIPTION:Monthly Board of Directors Meeting
DTSTART;TZID=America/Chicago:20281219T170000
DTEND;TZID=America/Chicago:20281219T180000
LOCATION:400 Bolivar Street Suite 102\, Sanger\, TX 76266 US
SUMMARY:SEF Board of Directors Board Meeting
END:VEVENT
END:VCALENDAR
