BEGIN:VCALENDAR
VERSION:2.0
PRODID:-//sangereducationfoundation.org//NONSGML kigkonsult.se iCalcreator 
 2.30.10//
CALSCALE:GREGORIAN
METHOD:PUBLISH
UID:db38d202-faa9-48cd-aab0-a12f67d00153
X-WR-CALDESC:Event Committee Monthly meeting.  Open to all volunteers and B
 oard Members
X-WR-RELCALID:3fc7ef36430e67cf63a78bd4ee9e231d
X-WR-TIMEZONE:America/Chicago
BEGIN:VTIMEZONE
TZID:America/Chicago
BEGIN:STANDARD
TZNAME:CST
DTSTART:20281105T020000
TZOFFSETFROM:-0500
TZOFFSETTO:-0600
RDATE:20291104T020000
END:STANDARD
BEGIN:DAYLIGHT
TZNAME:CDT
DTSTART:20280312T020000
TZOFFSETFROM:-0600
TZOFFSETTO:-0500
RDATE:20290311T020000
RDATE:20300310T020000
END:DAYLIGHT
END:VTIMEZONE
BEGIN:VEVENT
UID:b6628e4e-44e1-4cf0-85ee-d10627192145
DTSTAMP:20260423T001947Z
DESCRIPTION:Event Committee Monthly meeting.  Open to all volunteers and Bo
 ard Members
DTSTART;TZID=America/Chicago:20281206T170000
DTEND;TZID=America/Chicago:20281206T180000
LOCATION:400 Bolivar Street Suite 102\, Sanger\, TX 76266 US
SUMMARY:Development Event & Marketing Committee Meeting
END:VEVENT
END:VCALENDAR
