BEGIN:VCALENDAR
VERSION:2.0
PRODID:-//sangereducationfoundation.org//NONSGML kigkonsult.se iCalcreator 
 2.30.10//
CALSCALE:GREGORIAN
METHOD:PUBLISH
UID:1828516e-87fb-4030-9d2c-8411aba39c2f
X-WR-CALDESC:Monthly Board of Directors Meeting
X-WR-RELCALID:463550811465c49e26a017191b3184ac
X-WR-TIMEZONE:America/Chicago
BEGIN:VTIMEZONE
TZID:America/Chicago
BEGIN:STANDARD
TZNAME:CST
DTSTART:20271107T020000
TZOFFSETFROM:-0500
TZOFFSETTO:-0600
RDATE:20281105T020000
RDATE:20291104T020000
END:STANDARD
BEGIN:DAYLIGHT
TZNAME:CDT
DTSTART:20280312T020000
TZOFFSETFROM:-0600
TZOFFSETTO:-0500
RDATE:20290311T020000
RDATE:20300310T020000
END:DAYLIGHT
END:VTIMEZONE
BEGIN:VEVENT
UID:a6320194-96e1-4639-9eb0-bc4263967c60
DTSTAMP:20260422T205518Z
DESCRIPTION:Monthly Board of Directors Meeting
DTSTART;TZID=America/Chicago:20281017T170000
DTEND;TZID=America/Chicago:20281017T180000
LOCATION:400 Bolivar Street Suite 102\, Sanger\, TX 76266 US
SUMMARY:SEF Board of Directors Board Meeting
END:VEVENT
END:VCALENDAR
