BEGIN:VCALENDAR
VERSION:2.0
PRODID:-//sangereducationfoundation.org//NONSGML kigkonsult.se iCalcreator 
 2.30.10//
CALSCALE:GREGORIAN
METHOD:PUBLISH
UID:5a57475d-d028-4838-8305-3218d3f792ce
X-WR-CALDESC:Event Committee Monthly meeting.  Open to all volunteers and B
 oard Members
X-WR-RELCALID:e8ce7660c6717deb01ec502ce3887aba
X-WR-TIMEZONE:America/Chicago
BEGIN:VTIMEZONE
TZID:America/Chicago
BEGIN:STANDARD
TZNAME:CST
DTSTART:20271107T020000
TZOFFSETFROM:-0500
TZOFFSETTO:-0600
RDATE:20281105T020000
END:STANDARD
BEGIN:DAYLIGHT
TZNAME:CDT
DTSTART:20280312T020000
TZOFFSETFROM:-0600
TZOFFSETTO:-0500
RDATE:20290311T020000
END:DAYLIGHT
END:VTIMEZONE
BEGIN:VEVENT
UID:ddb78c41-a042-45a1-9b67-13189c4811a7
DTSTAMP:20260422T113921Z
DESCRIPTION:Event Committee Monthly meeting.  Open to all volunteers and Bo
 ard Members
DTSTART;TZID=America/Chicago:20280405T170000
DTEND;TZID=America/Chicago:20280405T180000
LOCATION:400 Bolivar Street Suite 102\, Sanger\, TX 76266 US
SUMMARY:Development Event & Marketing Committee Meeting
END:VEVENT
END:VCALENDAR
