BEGIN:VCALENDAR
VERSION:2.0
PRODID:-//sangereducationfoundation.org//NONSGML kigkonsult.se iCalcreator 
 2.30.10//
CALSCALE:GREGORIAN
METHOD:PUBLISH
UID:0a3e10a1-85ae-48af-9af9-909cc7299a7f
X-WR-CALDESC:Monthly Board of Directors Meeting
X-WR-RELCALID:7789f948bd8989312c38743dde1df3d4
X-WR-TIMEZONE:America/Chicago
BEGIN:VTIMEZONE
TZID:America/Chicago
BEGIN:STANDARD
TZNAME:CST
DTSTART:20271107T020000
TZOFFSETFROM:-0500
TZOFFSETTO:-0600
RDATE:20281105T020000
END:STANDARD
BEGIN:DAYLIGHT
TZNAME:CDT
DTSTART:20270314T020000
TZOFFSETFROM:-0600
TZOFFSETTO:-0500
RDATE:20280312T020000
RDATE:20290311T020000
END:DAYLIGHT
END:VTIMEZONE
BEGIN:VEVENT
UID:d0c10610-7207-47a3-9581-4b9e1d6c2063
DTSTAMP:20260422T045803Z
DESCRIPTION:Monthly Board of Directors Meeting
DTSTART;TZID=America/Chicago:20271221T170000
DTEND;TZID=America/Chicago:20271221T180000
LOCATION:400 Bolivar Street Suite 102\, Sanger\, TX 76266 US
SUMMARY:SEF Board of Directors Board Meeting
END:VEVENT
END:VCALENDAR
