BEGIN:VCALENDAR
VERSION:2.0
PRODID:-//sangereducationfoundation.org//NONSGML kigkonsult.se iCalcreator 
 2.30.10//
CALSCALE:GREGORIAN
METHOD:PUBLISH
UID:98d53b8d-392d-4aef-bed7-7beee9ecd443
X-WR-CALDESC:Event Committee Monthly meeting.  Open to all volunteers and B
 oard Members
X-WR-RELCALID:674aa702294cf9fab73cccdbd68c4b35
X-WR-TIMEZONE:America/Chicago
BEGIN:VTIMEZONE
TZID:America/Chicago
BEGIN:STANDARD
TZNAME:CST
DTSTART:20261101T020000
TZOFFSETFROM:-0500
TZOFFSETTO:-0600
RDATE:20271107T020000
RDATE:20281105T020000
END:STANDARD
BEGIN:DAYLIGHT
TZNAME:CDT
DTSTART:20270314T020000
TZOFFSETFROM:-0600
TZOFFSETTO:-0500
RDATE:20280312T020000
END:DAYLIGHT
END:VTIMEZONE
BEGIN:VEVENT
UID:c66e718b-26ae-4432-a137-fdd5cd0d80bb
DTSTAMP:20260421T192945Z
DESCRIPTION:Event Committee Monthly meeting.  Open to all volunteers and Bo
 ard Members
DTSTART;TZID=America/Chicago:20270602T170000
DTEND;TZID=America/Chicago:20270602T180000
LOCATION:400 Bolivar Street Suite 102\, Sanger\, TX 76266 US
SUMMARY:Development Event & Marketing Committee Meeting
END:VEVENT
END:VCALENDAR
